BEGIN:VCALENDAR
VERSION:2.0
PRODID:-//Stage 119 - ECPv6.15.20//NONSGML v1.0//EN
CALSCALE:GREGORIAN
METHOD:PUBLISH
X-ORIGINAL-URL:https://www.stage119.com
X-WR-CALDESC:Events for Stage 119
REFRESH-INTERVAL;VALUE=DURATION:PT1H
X-Robots-Tag:noindex
X-PUBLISHED-TTL:PT1H
BEGIN:VTIMEZONE
TZID:America/Chicago
BEGIN:DAYLIGHT
TZOFFSETFROM:-0600
TZOFFSETTO:-0500
TZNAME:CDT
DTSTART:20250309T080000
END:DAYLIGHT
BEGIN:STANDARD
TZOFFSETFROM:-0500
TZOFFSETTO:-0600
TZNAME:CST
DTSTART:20251102T070000
END:STANDARD
BEGIN:DAYLIGHT
TZOFFSETFROM:-0600
TZOFFSETTO:-0500
TZNAME:CDT
DTSTART:20260308T080000
END:DAYLIGHT
BEGIN:STANDARD
TZOFFSETFROM:-0500
TZOFFSETTO:-0600
TZNAME:CST
DTSTART:20261101T070000
END:STANDARD
BEGIN:DAYLIGHT
TZOFFSETFROM:-0600
TZOFFSETTO:-0500
TZNAME:CDT
DTSTART:20270314T080000
END:DAYLIGHT
BEGIN:STANDARD
TZOFFSETFROM:-0500
TZOFFSETTO:-0600
TZNAME:CST
DTSTART:20271107T070000
END:STANDARD
END:VTIMEZONE
BEGIN:VEVENT
DTSTART;TZID=America/Chicago:20260411T203000
DTEND;TZID=America/Chicago:20260411T233000
DTSTAMP:20260419T083923
CREATED:20260326T181350Z
LAST-MODIFIED:20260326T181351Z
UID:10000326-1775939400-1775950200@www.stage119.com
SUMMARY:INFINITY
DESCRIPTION:“Classic to Current: The Ultimate Rock Experience” Formed in 1985\, Infinity grew from being not only a Journey Tribute band\, but one of the top drawing cover – bands in the Midwest. Two-plus decades rocking the hundreds of local music festivals lighting up the Chicago suburbs each summer have put Infinity in front of hundreds of thousands of fans. Consequently\, the band has built an incredible following\, making them the Top most successful cover bands in the nation’s third-largest metropolis. Infinity continues to break attendance records at Clubs and Festivals across Chicago and the Midwest.\n\n\nMore importantly\, Infinity maintains the intangible ability to include the audience and make them feel as if they are part of the show. A quote from the Lead singer Bob\, “This is not our show\, it’s yours.” Infinity enjoys thousands of fans young and young at heart\, who sing along and become the chorus to their music. This is the difference between performers and genuine entertainers. Perhaps this is the reason for the perpetual following and return to area Festivals and Clubs across the Midwest year after year after year. \nTickets Pre-Sale $12.00 online only and till day of show 8:00pm\nTickets at the door $15.00
URL:https://www.stage119.com/event/infinity/
LOCATION:Stage 119\, 119 Commerce Ave\, Elmhurst\, IL\, 60126\, United States
CATEGORIES:Live Music
ATTACH;FMTTYPE=image/jpeg:https://www.stage119.com/wp-content/uploads/2026/03/INFINITY-scaled.jpg
END:VEVENT
END:VCALENDAR